BEGIN:VCALENDAR
VERSION:2.0
PRODID:-//hacksw/handcal//NONSGML v1.0//EN
CALSCALE:GREGORIAN
BEGIN:VEVENT
DTEND;VALUE=DATE:20260605
UID:21ee002f13cc4ad6d79eb6700fbb21f4
DTSTAMP:20260420T230002Z
LOCATION:Théâtre de l'Atrium - Dax - France
DESCRIPTION:2ème colloque Francophone des Infirmiers en médecine légale
URL;VALUE=URI:https://www.helloasso.com/associations/victimo-dax/evenements/colloque-des-infirmiers-en-medecine-legale-2eme-edition
SUMMARY:2ème colloque Francophone des Infirmiers en médecine légale
DTSTART;VALUE=DATE:20260603
END:VEVENT
END:VCALENDAR
